BEGIN:VCALENDAR
VERSION:2.0
PRODID:-//VVE Monteverdilaan - ECPv6.15.20//NONSGML v1.0//EN
CALSCALE:GREGORIAN
METHOD:PUBLISH
X-ORIGINAL-URL:https://www.vve-monteverdilaan.nl
X-WR-CALDESC:Evenementen voor VVE Monteverdilaan
REFRESH-INTERVAL;VALUE=DURATION:PT1H
X-Robots-Tag:noindex
X-PUBLISHED-TTL:PT1H
BEGIN:VTIMEZONE
TZID:Europe/Paris
BEGIN:DAYLIGHT
TZOFFSETFROM:+0100
TZOFFSETTO:+0200
TZNAME:CEST
DTSTART:20240331T010000
END:DAYLIGHT
BEGIN:STANDARD
TZOFFSETFROM:+0200
TZOFFSETTO:+0100
TZNAME:CET
DTSTART:20241027T010000
END:STANDARD
BEGIN:DAYLIGHT
TZOFFSETFROM:+0100
TZOFFSETTO:+0200
TZNAME:CEST
DTSTART:20250330T010000
END:DAYLIGHT
BEGIN:STANDARD
TZOFFSETFROM:+0200
TZOFFSETTO:+0100
TZNAME:CET
DTSTART:20251026T010000
END:STANDARD
BEGIN:DAYLIGHT
TZOFFSETFROM:+0100
TZOFFSETTO:+0200
TZNAME:CEST
DTSTART:20260329T010000
END:DAYLIGHT
BEGIN:STANDARD
TZOFFSETFROM:+0200
TZOFFSETTO:+0100
TZNAME:CET
DTSTART:20261025T010000
END:STANDARD
END:VTIMEZONE
BEGIN:VEVENT
DTSTART;TZID=Europe/Paris:20250523T000000
DTEND;TZID=Europe/Paris:20250525T235959
DTSTAMP:20260421T145422
CREATED:20250331T153727Z
LAST-MODIFIED:20250331T153727Z
UID:227-1747958400-1748217599@www.vve-monteverdilaan.nl
SUMMARY:Klusweekend 1 - mei 2025
DESCRIPTION:Beste buren\, \nHeb je zin om samen met je medebewoners de Monteverdiflat een flinke opfrisbeurt te geven? Goed nieuws! In het weekend van 23\, 24 en 25 mei organiseren we een klusweekend – een initiatief van enthousiaste bewoners zoals jij! \nTijdens de ledenvergadering ontstond het idee om niet alleen onderhoudskosten te besparen\, maar vooral om meer verbinding te creëren tussen ons als buren. Hoe mooi is het om samen de handen uit de mouwen te steken\, elkaar beter te leren kennen en tegelijkertijd onze flat een opknapbeurt te geven? \nOp vrijdag en zaterdag gaan we aan de slag met verschillende klussen. Van schilderen tot kleine reparaties – er is voor ieder wat wils. We sluiten de zaterdag feestelijk af met een gezellige borrel en wat lekkers. Zondag is er ruimte om eventuele klussen af te ronden (of gewoon na te genieten van het resultaat). \n📲 Wil je meedoen? Meld je aan via onderstaande link voor de appgroep. Daar houden we je op de hoogte en stemmen we alles samen af.En maak je geen zorgen: je hoeft echt geen kluswonder te zijn – enthousiasme is het belangrijkst! Ben je meer een keukenprins(es)? Ook dan zijn we blij met je hulp\, vooral bij het verzorgen van de afsluitende borrel. \nMet vriendelijke groeten van de klus werkgroep!
URL:https://www.vve-monteverdilaan.nl/event/klusweekend-1-mei-2025/
END:VEVENT
END:VCALENDAR